BEGIN:VCALENDAR
VERSION:2.0
PRODID:-//Living Word - ECPv6.15.20//NONSGML v1.0//EN
CALSCALE:GREGORIAN
METHOD:PUBLISH
X-ORIGINAL-URL:https://livingwordpdx.com
X-WR-CALDESC:Events for Living Word
REFRESH-INTERVAL;VALUE=DURATION:PT1H
X-Robots-Tag:noindex
X-PUBLISHED-TTL:PT1H
BEGIN:VTIMEZONE
TZID:America/Los_Angeles
BEGIN:DAYLIGHT
TZOFFSETFROM:-0800
TZOFFSETTO:-0700
TZNAME:PDT
DTSTART:20190310T100000
END:DAYLIGHT
BEGIN:STANDARD
TZOFFSETFROM:-0700
TZOFFSETTO:-0800
TZNAME:PST
DTSTART:20191103T090000
END:STANDARD
BEGIN:DAYLIGHT
TZOFFSETFROM:-0800
TZOFFSETTO:-0700
TZNAME:PDT
DTSTART:20200308T100000
END:DAYLIGHT
BEGIN:STANDARD
TZOFFSETFROM:-0700
TZOFFSETTO:-0800
TZNAME:PST
DTSTART:20201101T090000
END:STANDARD
BEGIN:DAYLIGHT
TZOFFSETFROM:-0800
TZOFFSETTO:-0700
TZNAME:PDT
DTSTART:20210314T100000
END:DAYLIGHT
BEGIN:STANDARD
TZOFFSETFROM:-0700
TZOFFSETTO:-0800
TZNAME:PST
DTSTART:20211107T090000
END:STANDARD
END:VTIMEZONE
BEGIN:VEVENT
DTSTART;TZID=America/Los_Angeles:20200104T180000
DTEND;TZID=America/Los_Angeles:20200104T190000
DTSTAMP:20260420T110359
CREATED:20180907T072842Z
LAST-MODIFIED:20191214T191902Z
UID:1262-1578160800-1578164400@livingwordpdx.com
SUMMARY:Капелька Тепла
DESCRIPTION:Тебе хочется поделиться теплом Божией любви с кем то? Приглашаем женщин которым 50+ каждую первую субботу месяца\, вечером\, на кружок молитвы\, общения\, и вязания шапочек и топиков для новорожденных\, которые находятся в отделении интенсивной терапии для новорожденных. \n  \nПочти 1 из каждых 10 младенцев\, родившихся в Соединенных Штатах\, являются преждевременными. Важный рост и развитие происходят во время беременности – особенно в последние месяцы и недели. Поэтому малыши рожденные раньше\, нуждаются в специальном медицинском обслуживании в отделении интенсивной терапии для новорожденных. Они остаются там\, пока их системы органов не смогут работать самостоятельно. Это может длится несколько недель и даже месяцев. Для многих родителей\, пребывание ребенка в таком отделении – это как поездка на американских горках\, взлеты и падения\, триумфы и неудачи\, чувства беспокойства и неуверенности. И как важно в такие моменты подарить им капельку тепла которая согреет их сердце и напомнит им о том что Бог рядом!!!
URL:https://livingwordpdx.com/event/%d0%ba%d0%b0%d0%bf%d0%b5%d0%bb%d1%8c%d0%ba%d0%b0-%d1%82%d0%b5%d0%bf%d0%bb%d0%b0/
LOCATION:Living Word Church\, 503 9th Str\, Oregon City\, OR\, 97045\, United States
CATEGORIES:Drops of Kindness
ATTACH;FMTTYPE=image/png:https://livingwordpdx.com/wp-content/uploads/2018/09/KnittingBasket.png
ORGANIZER;CN="Drops of Kindness":MAILTO:1livingword@gmail.com
END:VEVENT
END:VCALENDAR